BEGIN:VCALENDAR
VERSION:2.0
PRODID:-//Prokurio - ECPv6.15.18//NONSGML v1.0//EN
CALSCALE:GREGORIAN
METHOD:PUBLISH
X-WR-CALNAME:Prokurio
X-ORIGINAL-URL:https://www.prokurio.com
X-WR-CALDESC:Events for Prokurio
REFRESH-INTERVAL;VALUE=DURATION:PT1H
X-Robots-Tag:noindex
X-PUBLISHED-TTL:PT1H
BEGIN:VTIMEZONE
TZID:America/Detroit
BEGIN:DAYLIGHT
TZOFFSETFROM:-0500
TZOFFSETTO:-0400
TZNAME:EDT
DTSTART:20250309T070000
END:DAYLIGHT
BEGIN:STANDARD
TZOFFSETFROM:-0400
TZOFFSETTO:-0500
TZNAME:EST
DTSTART:20251102T060000
END:STANDARD
BEGIN:DAYLIGHT
TZOFFSETFROM:-0500
TZOFFSETTO:-0400
TZNAME:EDT
DTSTART:20260308T070000
END:DAYLIGHT
BEGIN:STANDARD
TZOFFSETFROM:-0400
TZOFFSETTO:-0500
TZNAME:EST
DTSTART:20261101T060000
END:STANDARD
BEGIN:DAYLIGHT
TZOFFSETFROM:-0500
TZOFFSETTO:-0400
TZNAME:EDT
DTSTART:20270314T070000
END:DAYLIGHT
BEGIN:STANDARD
TZOFFSETFROM:-0400
TZOFFSETTO:-0500
TZNAME:EST
DTSTART:20271107T060000
END:STANDARD
END:VTIMEZONE
BEGIN:VEVENT
DTSTART;VALUE=DATE:20260119
DTEND;VALUE=DATE:20260121
DTSTAMP:20260420T100122
CREATED:20251227T180450Z
LAST-MODIFIED:20260107T200545Z
UID:40728-1768780800-1768953599@www.prokurio.com
SUMMARY:IIPLA 2026 – The Global Forum for IP Leadership in Dubai
DESCRIPTION:Prokurio highlights IIPLA 2026 Dubai\, taking place 19–20 January 2026 in Dubai\, UAE. \nNow in its 28th edition\, IIPLA brings together the global IP community for two focused days of insight\, collaboration\, and forward-looking discussion. Designed to bridge public and private sectors\, the event creates a powerful platform for meaningful dialogue among IP leaders\, legal experts\, and innovators. \nJoin international IP professionals as they explore emerging trends\, evolving regulations\, and practical solutions shaping the future of intellectual property. From strategic discussions to solution-driven showcases\, IIPLA 2026 offers valuable perspectives to help navigate today’s complex IP landscape. \nFor more information\, check here – https://iipla.org/events/dubai/ \n 
URL:https://www.prokurio.com/event/iipla-2026-the-global-forum-for-ip-leadership-in-dubai/
LOCATION:Radisson Blu Hotel\, Dubai Waterfront\, Marasi Dr - Business Bay\, Dubai\, United Arab Emirates
CATEGORIES:Conference,Intellectual Property
ATTACH;FMTTYPE=image/png:https://www.prokurio.com/wp-content/uploads/2025/12/IIPLA-Dubai.png
END:VEVENT
BEGIN:VEVENT
DTSTART;VALUE=DATE:20260126
DTEND;VALUE=DATE:20260128
DTSTAMP:20260420T100122
CREATED:20251216T203226Z
LAST-MODIFIED:20260107T200416Z
UID:40629-1769385600-1769558399@www.prokurio.com
SUMMARY:2026 Global IP Exchange USA — Advancing Global IP Strategy from San Antonio
DESCRIPTION:Prokurio presents the IQPC Global IP Exchange USA\, an invitation-only forum for in-house IP leaders across patents\, trademarks\, and brand protection. \nJoin us at the La Cantera Resort\, San Antonio\, Texas\, for expert insights\, interactive discussions\, and curated one-on-one meetings. Discover how strategic collaboration with peers\, counsel\, and solution providers can drive innovation\, manage risks\, and strengthen your IP and brand protection strategy. Connect\, share insights\, and forge partnerships that turn challenges into opportunities for growth and lasting success. \nFor more information\, check here – https://www.iqpc.com/events-global-ip-exchange-usa \n 
URL:https://www.prokurio.com/event/2026-global-ip-exchange-usa-advancing-global-ip-strategy-from-san-antonio/
LOCATION:La Cantera Resort San Antonio\, Texas\, 16641 La Cantera Pkwy\, San Antonio\, TX\, 78256\, United States
CATEGORIES:Patents,Trademarks
ATTACH;FMTTYPE=image/jpeg:https://www.prokurio.com/wp-content/uploads/2025/12/Global-IP-Exchange-USA.jpg
ORGANIZER;CN="IQPC":MAILTO:info@iqpc.com
END:VEVENT
END:VCALENDAR