BEGIN:VCALENDAR
VERSION:2.0
PRODID:-//Prokurio - ECPv6.15.18//NONSGML v1.0//EN
CALSCALE:GREGORIAN
METHOD:PUBLISH
X-WR-CALNAME:Prokurio
X-ORIGINAL-URL:https://www.prokurio.com
X-WR-CALDESC:Events for Prokurio
REFRESH-INTERVAL;VALUE=DURATION:PT1H
X-Robots-Tag:noindex
X-PUBLISHED-TTL:PT1H
BEGIN:VTIMEZONE
TZID:America/Detroit
BEGIN:DAYLIGHT
TZOFFSETFROM:-0500
TZOFFSETTO:-0400
TZNAME:EDT
DTSTART:20250309T070000
END:DAYLIGHT
BEGIN:STANDARD
TZOFFSETFROM:-0400
TZOFFSETTO:-0500
TZNAME:EST
DTSTART:20251102T060000
END:STANDARD
BEGIN:DAYLIGHT
TZOFFSETFROM:-0500
TZOFFSETTO:-0400
TZNAME:EDT
DTSTART:20260308T070000
END:DAYLIGHT
BEGIN:STANDARD
TZOFFSETFROM:-0400
TZOFFSETTO:-0500
TZNAME:EST
DTSTART:20261101T060000
END:STANDARD
BEGIN:DAYLIGHT
TZOFFSETFROM:-0500
TZOFFSETTO:-0400
TZNAME:EDT
DTSTART:20270314T070000
END:DAYLIGHT
BEGIN:STANDARD
TZOFFSETFROM:-0400
TZOFFSETTO:-0500
TZNAME:EST
DTSTART:20271107T060000
END:STANDARD
END:VTIMEZONE
BEGIN:VEVENT
DTSTART;VALUE=DATE:20260502
DTEND;VALUE=DATE:20260507
DTSTAMP:20260420T124830
CREATED:20251226T211548Z
LAST-MODIFIED:20260107T200222Z
UID:40716-1777680000-1778111999@www.prokurio.com
SUMMARY:2026 INTA Annual Meeting - Advancing IP and Trademark Leadership
DESCRIPTION:Hong Kong has announced a decrease in design fees to “promote the further development of intellectual property trading\,” contingent upon the completion of the proper legislative procedures. The new fees are expected to take effect on March 1. Highlights Below! 								\n				\n					\n		\n					\n		\n				\n						\n					\n			\n						\n				\n					Hong Kong Design Fee Updates				\n				\n				\n				\n							\n			\n		\n						\n				\n				\n				\n							\n			\n		\n						\n				\n				\n				\n																														\n				\n				\n				\n							\n			\n		\n						\n				\n				\n				\n									Application FeesThe electronic filing fee for one design not forming a set of articles will decrease from 785 HKD to 235 HKD.The electronic filing fee for one design for one set of articles will decrease from 1\,570 HKD to 470 HKD. Renewal FeesRenewal of the 1st 5-year extension will decrease from 790 HKD to 475 HKDRenewal of the 2nd 5-year extension will decrease from 1\,200 HKD to 835 HKDRenewal of the 3rd 5-year extension will decrease from 1\,760 HKD to 1\,410 HKDRenewal of the 4th 5-year extension will decrease from 2\,690 HKD to 2\,420 HKDLate payment of the renewal fee will decrease from 490 HKD to 390 HKD								\n				\n				\n				\n							\n			\n		\n						\n				\n					\n		\n					\n		\n				\n						\n					\n			\n						\n				\n					Want more of this kind of stuff? Take A Look Here!				\n				\n				\n				\n							\n			\n		\n						\n				\n				\n				\n							\n			\n		\n						\n				\n				\n				\n							\n					\n		\n			\n		\n		\n\n							\n			\n\n	\n\n				\n		\n\n				\n			\n			\n					\n		\n			\n			\n							Designs\n						\n\n		\n						\n				Argentina Introduces New IP Fees with Monthly Inflation Adjustments			\n\n				\n					\n					\n																						\n			March 30\, 2026		\n				\n																						No Comments		\n				\n		\n		\n			Argentina Moves to Dynamic IP Fees Starting April 2026 Argentina has approved Resolution 75/2026\, introducing a new IP fee schedule effective April 1\, 2026\, along ...		\n\n					\n					\n														\n\n									\n								\n													\n						Read More →\n					\n				\n						\n			\n		\n		\n	\n\n\n\n\n	\n\n				\n		\n\n				\n			\n			\n					\n		\n			\n			\n							Design Fee Updates\n						\n\n		\n						\n				Russia\, EP\, and OAPI Hague Design fee updates coming			\n\n				\n					\n					\n																						\n			November 28\, 2023		\n				\n																						No Comments		\n				\n		\n		\n			Russia\, EP\, and OAPI Hague Design Fee Updates Coming Hague Design fees don’t change very often\, but this week\, we received notification of updates coming ...		\n\n					\n					\n														\n\n									\n								\n													\n						Read More →\n					\n				\n						\n			\n		\n		\n	\n\n\n\n\n	\n\n				\n		\n\n				\n			\n			\n					\n		\n			\n			\n							Design Fee Updates\n						\n\n		\n						\n				IP Currency Costs: More Than a Maintenance Issue			\n\n				\n					\n					\n																						\n			November 22\, 2023		\n				\n																						No Comments		\n				\n		\n		\n			Over the past several years\, we’ve seen a significant focus on improving currency cost controls for patent annuities and trademark renewals but comparatively less on ...		\n\n					\n					\n														\n\n									\n								\n													\n						Read More →
URL:https://www.prokurio.com/event/2026-inta-annual-meeting-advancing-ip-and-trademark-leadership/
LOCATION:ExCeL London\, Royal Victoria Dock\, 1 Western Gateway\, London\, E16 1XL\, United Kingdom
CATEGORIES:Intellectual Property,Trademarks
ATTACH;FMTTYPE=image/jpeg:https://www.prokurio.com/wp-content/uploads/2025/12/INTA.jpg
ORGANIZER;CN="International Trademark Association":MAILTO:memberoperations@inta.org
END:VEVENT
END:VCALENDAR